BEGIN:VCALENDAR
VERSION:2.0
PRODID:-//5.44.111.149//NONSGML kigkonsult.se iCalcreator 2.41.83//
CALSCALE:GREGORIAN
METHOD:PUBLISH
UID:31303632-6333-4437-b762-313464643366
X-WR-CALNAME:Termine%2B2026%2Bauf%2BIhren%2BKalender%2Bladen
X-WR-CALDESC:Termine%2B2026%2Bauf%2BIhren%2BKalender%2Bladen
X-WR-TIMEZONE:Europe/Berlin
BEGIN:VEVENT
UID:65396133-3137-4333-b630-396136633335
DTSTAMP:20260421T132226Z
DESCRIPTION:Wir fahren an diesem Tag an den Niederrhein. Auf Wunsch kommen 
 wir auch bei Ihnen vorbei. Unsere aktuelle Weinpreisliste können Sie HIER 
 downloaden. HIER geht's zum Kontaktformular.
DTSTART;VALUE=DATE:20250322
DTEND;VALUE=DATE:20250323
SUMMARY:Weintour – Niederrhein
END:VEVENT
BEGIN:VEVENT
UID:38356466-3564-4463-b033-636131323763
DTSTAMP:20260421T132226Z
DESCRIPTION:Rosa Leuchten im Glas: Im Mittelpunkt der Veranstaltung steht d
 er Rosé.\nSie haben die Möglichkeit über 100 Rosé-Weine\, Sekte und Créman
 ts der Pfalz zu verkosten\, auch wir sind mit einem rosa Tropfen vertreten
 .\nWeitere Infos zur Veranstaltung und Tickets erhalten sie HIER.\n \n 
DTSTART:20250323T130000
DTEND:20250323T180000
SUMMARY:Rosa Leuchten im Glas
END:VEVENT
BEGIN:VEVENT
UID:39366538-3435-4630-a532-376436643963
DTSTAMP:20260421T132226Z
DESCRIPTION:Wir fahren an diesem Tag ins Saarland. Auf Wunsch kommen wir au
 ch bei Ihnen vorbei. Unsere aktuelle Weinpreisliste können Sie HIER downlo
 aden. HIER gehts zum Kontaktformular.
DTSTART;VALUE=DATE:20250327
DTEND;VALUE=DATE:20250328
SUMMARY:Weintour – Saarland
END:VEVENT
BEGIN:VEVENT
UID:32373235-6336-4566-b434-333637666633
DTSTAMP:20260421T132226Z
DESCRIPTION:Wir fahren an diesen Tagen ins Ruhrgebiet. Auf Wunsch kommen wi
 r auch bei Ihnen vorbei. Unsere aktuelle Weinpreisliste können HIER downlo
 aden. HIER geht's zum Kontaktformular.
DTSTART;VALUE=DATE:20250329
DTEND;VALUE=DATE:20250330
SUMMARY:Weintour – Großraum Ruhrgebiet
END:VEVENT
BEGIN:VEVENT
UID:33326437-3539-4566-b532-646366626232
DTSTAMP:20260421T132226Z
DESCRIPTION:Wir fahren an diesem Tag nach Ingolstadt und Nürnberg. Auf Wuns
 ch kommen wir auch bei Ihnen vorbei. Unsere aktuelle Weinpreisliste können
  Sie HIER downloaden. HIER geht's zum Kontaktformular.
DTSTART;VALUE=DATE:20250402
DTEND;VALUE=DATE:20250403
SUMMARY:Weintour – Ingolstadt / Nürnberg
END:VEVENT
BEGIN:VEVENT
UID:38633932-3931-4539-a230-323135313932
DTSTAMP:20260421T132226Z
DESCRIPTION:Wir fahren an diesen Tagen nach Darmstadt und Frankfurt. Auf Wu
 nsch kommen wir auch bei Ihnen vorbei. Unsere aktuelle Weinpreisliste könn
 en Sie HIER downloaden. HIER geht's zum Kontaktformular.
DTSTART;VALUE=DATE:20250405
DTEND;VALUE=DATE:20250406
SUMMARY:Weintour – Darmstadt / Frankfurt
END:VEVENT
BEGIN:VEVENT
UID:33633535-3431-4735-b836-613838303165
DTSTAMP:20260421T132226Z
DESCRIPTION:Wir fahren an diesen Tagen ins schöne Allgäu. Auf Wunsch kommen
  wir auch bei Ihnen vorbei. Unsere aktuelle Weinpreisliste können Sie HIER
  downloaden. HIER geht's zum Kontaktformular.
DTSTART;VALUE=DATE:20250408
DTEND;VALUE=DATE:20250409
SUMMARY:Weintour – Allgäu
END:VEVENT
BEGIN:VEVENT
UID:65663563-3434-4362-b635-353432323630
DTSTAMP:20260421T132226Z
DESCRIPTION:10. und 11.04. Wir fahren an diesen Tagen nach Sachsen. Auf Wun
 sch kommen wir auch bei Ihnen vorbei. Unsere aktuelle Weinpreisliste könne
 n Sie HIER downloaden. HIER geht's zum Kontaktformular.
DTSTART;VALUE=DATE:20250410
DTEND;VALUE=DATE:20250412
SUMMARY:Weintour – Sachsen
END:VEVENT
BEGIN:VEVENT
UID:30643435-3335-4764-b661-316232396136
DTSTAMP:20260421T132226Z
DESCRIPTION:Fass uff de Gass\, die Weinmeile entlang der Dudostraße. Mit me
 hr als 100 Weinen.
DTSTART;VALUE=DATE:20250412
DTEND;VALUE=DATE:20250413
SUMMARY:Fass uff de Gass
END:VEVENT
BEGIN:VEVENT
UID:64636263-3430-4161-b131-313062376565
DTSTAMP:20260421T132226Z
DESCRIPTION:Wir fahren an diesem Tag nach Ulm\, Günzburg und Göppingen. Auf
  Wunsch kommen wir auch bei Ihnen vorbei. Unsere aktuelle Weinpreisliste k
 önnen Sie HIER downloaden. HIER geht's zum Kontaktformular.
DTSTART;VALUE=DATE:20250419
DTEND;VALUE=DATE:20250420
SUMMARY:Weintour – Ulm / Günzburg / Göppingen
END:VEVENT
BEGIN:VEVENT
UID:32643665-6432-4836-b635-623165366537
DTSTAMP:20260421T132226Z
DESCRIPTION:Wir fahren an diesen Tag nach Wesfalen. Auf Wunsch kommen wir a
 uch bei Ihnen vorbei. Unsere aktuelle Weinpreisliste können Sie HIER downl
 oaden. HIER geht's zum Kontaktformular.
DTSTART;VALUE=DATE:20250502
DTEND;VALUE=DATE:20250504
SUMMARY:Weintour Westfalen
END:VEVENT
BEGIN:VEVENT
UID:64333039-3266-4537-a235-396439643431
DTSTAMP:20260421T132226Z
DESCRIPTION:Weißwein im Glas: Erleben Sie die faszinierende Vielfalt der We
 ißweine.\nAuch wir sind mit einem weißen Tropfen vertreten.\nWeitere Infos
  zur Veranstaltung und Tickets erhalten sie HIER.\n \n 
DTSTART:20250504T130000
DTEND:20250504T180000
SUMMARY:Weißwein im Glas
END:VEVENT
BEGIN:VEVENT
UID:39303730-3237-4365-b636-613135643165
DTSTAMP:20260421T132226Z
DESCRIPTION:Geselliges Beisammensein und den Feierabend im Hof vom Weingut 
 Breitling & Walter ausklingen lassen.
DTSTART;VALUE=DATE:20250507
DTEND;VALUE=DATE:20250508
SUMMARY:Feierowend im Hof
END:VEVENT
BEGIN:VEVENT
UID:36383735-3432-4333-b030-336431303966
DTSTAMP:20260421T132226Z
DESCRIPTION:Wir sind an diesem Tag in Bremen / Osnabrück / Wilhelmshaven / 
 Kassel. Auf Wunsch kommen wir auch bei Ihnen vorbei. Unsere aktuelle Weinp
 reisliste können Sie HIER downloaden. HIER geht's zum Kontaktformular.
DTSTART;VALUE=DATE:20250513
DTEND;VALUE=DATE:20250515
SUMMARY:Weintour Bremen / Osnabrück / Wilhelmshaven / Kassel
END:VEVENT
BEGIN:VEVENT
UID:34346538-6232-4537-b932-343438656633
DTSTAMP:20260421T132226Z
DESCRIPTION:Wir sind an diesem Tag im Raum Stuttgart / Göppingen / Reutling
 en. Auf Wunsch kommen wir auch bei Ihnen vorbei. Unsere aktuelle Weinpreis
 liste können Sie HIER downloaden. HIER geht's zum Kontaktformular.
DTSTART;VALUE=DATE:20250517
DTEND;VALUE=DATE:20250518
SUMMARY:Weintour Raum Stuttgart / Göppingen / Reutlingen
END:VEVENT
BEGIN:VEVENT
UID:34376564-6632-4232-b533-643431366164
DTSTAMP:20260421T132226Z
DESCRIPTION:Wir fahren an diesem Tag nach München / Oberbayern. Auf Wunsch 
 kommen wir auch bei Ihnen vorbei. Unsere aktuelle Weinpreisliste können Si
 e HIER downloaden. HIER geht's zum Kontaktformular.
DTSTART;VALUE=DATE:20250524
DTEND;VALUE=DATE:20250525
SUMMARY:Weintour  München / Oberbayern
END:VEVENT
BEGIN:VEVENT
UID:39626266-3639-4466-b133-336237386339
DTSTAMP:20260421T132226Z
DESCRIPTION:Geselliges Beisammensein und den Feierabend im Hof vom Weingut 
 Breitling & Walter ausklingen lassen.
DTSTART;VALUE=DATE:20250604
DTEND;VALUE=DATE:20250605
SUMMARY:Feierowend im Hof
END:VEVENT
BEGIN:VEVENT
UID:65303533-3362-4039-a639-323566356166
DTSTAMP:20260421T132226Z
DESCRIPTION:Wir fahren an diesem Tag nach Darmstadt. Auf Wunsch kommen wir 
 auch bei Ihnen vorbei. Unsere aktuelle Weinpreisliste können Sie HIER down
 loaden. HIER geht's zum Kontaktformular.
DTSTART;VALUE=DATE:20250607
DTEND;VALUE=DATE:20250608
SUMMARY:Weintour Darmstadt
END:VEVENT
BEGIN:VEVENT
UID:33353563-3436-4536-a563-303865313265
DTSTAMP:20260421T132226Z
DESCRIPTION:Wir fahren an diesem Tag nach Mittelfranken. Auf Wunsch kommen 
 wir auch bei Ihnen vorbei. Unsere aktuelle Weinpreisliste können Sie HIER 
 downloaden. HIER geht's zum Kontaktformular.
DTSTART;VALUE=DATE:20250614
DTEND;VALUE=DATE:20250615
SUMMARY:Weintour Mittelfranken
END:VEVENT
BEGIN:VEVENT
UID:61306138-3839-4436-b130-386331343338
DTSTAMP:20260421T132226Z
DESCRIPTION:Herzlich Willkommen bei der Duttweiler Kerwe. Am Kerwe-Montag i
 st Radrennen um den Großen Preis der Württembergischen Versicherung.
DTSTART;VALUE=DATE:20250620
DTEND;VALUE=DATE:20250625
SUMMARY:Duttweiler Kerwe
END:VEVENT
BEGIN:VEVENT
UID:30353932-6463-4433-b463-646632383032
DTSTAMP:20260421T132226Z
DESCRIPTION:Wir fahren an diesem Tag nach Gifhorn / Berlin / Erfurt. Auf Wu
 nsch kommen wir auch bei Ihnen vorbei. Unsere aktuelle Weinpreisliste könn
 en Sie HIER downloaden. HIER geht's zum Kontaktformular.
DTSTART;VALUE=DATE:20250701
DTEND;VALUE=DATE:20250702
SUMMARY:Weintour Gifhorn / Berlin / Erfurt
END:VEVENT
BEGIN:VEVENT
UID:64633335-6361-4731-b964-366130343231
DTSTAMP:20260421T132226Z
DESCRIPTION:Geselliges Beisammensein und den Feierabend im Hof vom Weingut 
 Breitling & Walter ausklingen lassen.
DTSTART;VALUE=DATE:20250702
DTEND;VALUE=DATE:20250703
SUMMARY:Feierowend im Hof
END:VEVENT
BEGIN:VEVENT
UID:66373861-3865-4733-b730-626535383538
DTSTAMP:20260421T132226Z
DESCRIPTION:Wir laden Sie ein zu unserem Sommerfest im Weingut.
DTSTART;VALUE=DATE:20250712
DTEND;VALUE=DATE:20250714
SUMMARY:Sommerfest
END:VEVENT
BEGIN:VEVENT
UID:31356631-6234-4466-b837-393535633235
DTSTAMP:20260421T132226Z
DESCRIPTION:Wir fahren an diesem Tag nach Darmstadt / Frankfurt am Main und
  Hanau. Auf Wunsch kommen wir auch bei Ihnen vorbei. Unsere aktuelle Weinp
 reisliste können Sie HIER downloaden. HIER geht's zum Kontaktformular.
DTSTART;VALUE=DATE:20250802
DTEND;VALUE=DATE:20250803
SUMMARY:Weintour Darmstadt / Frankfurt am Main / Hanau
END:VEVENT
BEGIN:VEVENT
UID:65666335-3835-4635-a336-343137623562
DTSTAMP:20260421T132226Z
DESCRIPTION:Geselliges Beisammensein und den Feierabend im Hof vom Weingut 
 Breitling & Walter ausklingen lassen.
DTSTART;VALUE=DATE:20250806
DTEND;VALUE=DATE:20250807
SUMMARY:Feierowend im Hof
END:VEVENT
BEGIN:VEVENT
UID:31343039-3630-4862-b861-353030653562
DTSTAMP:20260421T132226Z
DESCRIPTION:Weinfest der Freundschaft in Duttweiler
DTSTART;VALUE=DATE:20250808
DTEND;VALUE=DATE:20250812
SUMMARY:Weinfest der Freundschaft
END:VEVENT
BEGIN:VEVENT
UID:33343265-3731-4432-b534-383336313033
DTSTAMP:20260421T132226Z
DESCRIPTION:Geselliges Beisammensein und den Feierabend im Hof vom Weingut 
 Breitling & Walter ausklingen lassen.
DTSTART;VALUE=DATE:20250903
DTEND;VALUE=DATE:20250904
SUMMARY:Feierowend im Hof
END:VEVENT
BEGIN:VEVENT
UID:66383934-6236-4535-b535-373562303563
DTSTAMP:20260421T132226Z
DESCRIPTION:Neustadter Wochenmarkt mit Weinausschank im Rathausinnenhof\nIn
  angenehmer Atmosphäre lädt der Weinausschank auf dem Neustadter Wochenmar
 kt zum verweilen\, plaudern und probieren ein\, um die Woche ausklingen zu
  lassen.\nAn diesem Termin dürfen wir unsere Weine mit weiteren Winzer*inn
 en für das Weindorf Duttweiler präsentieren.\nWeitere Infos zur Veranstalt
 ung und zum Wochenmarkt.\n 
DTSTART:20250920T100000
DTEND:20250920T150000
SUMMARY:Weinausschank auf dem Neustadter Wochenmarkt
END:VEVENT
BEGIN:VEVENT
UID:32306266-3435-4066-b436-313833303232
DTSTAMP:20260421T132226Z
DESCRIPTION:Wir fahren an diesem Tag nach Darmstadt. Auf Wunsch kommen wir 
 auch bei Ihnen vorbei. Unsere aktuelle Weinpreisliste können Sie HIER down
 loaden. HIER geht's zum Kontaktformular.
DTSTART;VALUE=DATE:20251004
DTEND;VALUE=DATE:20251005
SUMMARY:Weintour Darmstadt
END:VEVENT
BEGIN:VEVENT
UID:35326561-3563-4738-a439-353132373136
DTSTAMP:20260421T132226Z
DESCRIPTION:Wir fahren an diesem Tag an den Niederrhein. Auf Wunsch kommen 
 wir auch bei Ihnen vorbei. Unsere neue Weinpreisliste können Sie HIER down
 loaden. HIER geht`s zum Kontaktformular.
DTSTART;VALUE=DATE:20251018
DTEND;VALUE=DATE:20251019
SUMMARY:Weintour – Region Niederrhein
END:VEVENT
BEGIN:VEVENT
UID:65656336-3562-4266-a462-333361613164
DTSTAMP:20260421T132226Z
DESCRIPTION:Wir fahren an diesen Tagen ins Ruhrgebiet und Bergische Land. A
 uf Wunsch kommen wir auch bei Ihnen vorbei. Unsere neue Weinpreisliste kön
 nen Sie HIER downloaden. HIER geht`s zum Kontaktformular.
DTSTART;VALUE=DATE:20251022
DTEND;VALUE=DATE:20251023
SUMMARY:Weintour – Region Ruhrgebiet / Bergisches Land
END:VEVENT
BEGIN:VEVENT
UID:65326666-3838-4232-b265-313962656430
DTSTAMP:20260421T132226Z
DESCRIPTION:Wir fahren an diesen Tagen nach Sachsen und in die Oberpfalz. A
 uf Wunsch kommen wir auch bei Ihnen vorbei. Unsere neue Weinpreisliste kön
 nen Sie HIER downloaden. HIER geht`s zum Kontaktformular.
DTSTART;VALUE=DATE:20251024
DTEND;VALUE=DATE:20251026
SUMMARY:Weintour – Region Sachsen / Oberpfalz
END:VEVENT
BEGIN:VEVENT
UID:64646266-3230-4961-b133-643933316430
DTSTAMP:20260421T132226Z
DESCRIPTION:Wir sind an diesen Tagen in Hamburg / Lübeck / Kiel / Rendsburg
 . Auf Wunsch kommen wir auch bei Ihnen vorbei. Unsere neue Weinpreisliste 
 können Sie HIER downloaden. HIER geht`s zum Kontaktformular.
DTSTART;VALUE=DATE:20251101
DTEND;VALUE=DATE:20251103
SUMMARY:Weintour - Region Hamburg / Lübeck / Kiel / Rendsburg
END:VEVENT
BEGIN:VEVENT
UID:31346633-3230-4334-a534-646530373539
DTSTAMP:20260421T132226Z
DESCRIPTION:Wir fahren an diesem Tag nach Ingolstadt und Nürnberg. Auf Wuns
 ch kommen wir auch bei Ihnen vorbei. Unsere neue Weinpreisliste können Sie
  HIER downloaden. HIER geht`s zum Kontaktformular.
DTSTART;VALUE=DATE:20251105
DTEND;VALUE=DATE:20251106
SUMMARY:Weintour – Region Ingolstadt / Nürnberg
END:VEVENT
BEGIN:VEVENT
UID:36306339-6264-4765-b936-306163373436
DTSTAMP:20260421T132226Z
DESCRIPTION:Wir fahren an diesem Tage ins schöne Allgäu. Auf Wunsch kommen 
 wir auch bei Ihnen vorbei. Unsere neue Weinpreisliste können Sie HIER down
 loaden. HIER geht`s zum Kontaktformular.
DTSTART;VALUE=DATE:20251108
DTEND;VALUE=DATE:20251109
SUMMARY:Weintour – Region Allgäu
END:VEVENT
BEGIN:VEVENT
UID:35383561-3261-4331-a231-336163613733
DTSTAMP:20260421T132226Z
DESCRIPTION:Wir fahren an diesem Tag nach München / Oberbayern. Auf Wunsch 
 kommen wir auch bei Ihnen vorbei. Unsere neue Weinpreisliste können Sie HI
 ER downloaden. HIER geht`s zum Kontaktformular.
DTSTART;VALUE=DATE:20251115
DTEND;VALUE=DATE:20251116
SUMMARY:Weintour - Region München / Oberbayern
END:VEVENT
BEGIN:VEVENT
UID:63653439-6364-4062-b031-356565396338
DTSTAMP:20260421T132226Z
DESCRIPTION:Wir fahren an diesen Tagen nach Westfalen-Lippe / Nienburg. Auf
  Wunsch kommen wir auch bei Ihnen vorbei. Unsere neue Weinpreisliste könne
 n Sie HIER downloaden. HIER geht`s zum Kontaktformular.
DTSTART;VALUE=DATE:20251120
DTEND;VALUE=DATE:20251123
SUMMARY:Weintour - Region Westfalen / Nienburg
END:VEVENT
BEGIN:VEVENT
UID:62323436-6665-4438-b130-313062316565
DTSTAMP:20260421T132226Z
DESCRIPTION:Wir sind an diesen Tagen in Bremen / Osnabrück / Wilhelmshaven.
  Auf Wunsch kommen wir auch bei Ihnen vorbei. Unsere neue Weinpreisliste k
 önnen Sie HIER downloaden. HIER geht`s zum Kontaktformular.
DTSTART;VALUE=DATE:20251126
DTEND;VALUE=DATE:20251128
SUMMARY:Weintour - Region Bremen / Osnabrück / Wilhelmshaven
END:VEVENT
BEGIN:VEVENT
UID:35343932-6664-4230-a536-316665343630
DTSTAMP:20260421T132226Z
DESCRIPTION:Wir fahren an diesem Tag ins Saarland. Auf Wunsch kommen wir au
 ch bei Ihnen vorbei. Unsere neue Weinpreisliste können Sie HIER downloaden
 . HIER geht`s zum Kontaktformular.
DTSTART;VALUE=DATE:20251202
DTEND;VALUE=DATE:20251203
SUMMARY:Weintour – Region Saarland
END:VEVENT
BEGIN:VEVENT
UID:39646133-3963-4436-a138-633661363966
DTSTAMP:20260421T132226Z
DESCRIPTION:Wir sind an diesem Tag im Raum Stuttgart / Göppingen / Reutling
 en. Auf Wunsch kommen wir auch bei Ihnen vorbei. Unsere neue Weinpreislist
 e können Sie HIER downloaden. HIER geht`s zum Kontaktformular.
DTSTART;VALUE=DATE:20251204
DTEND;VALUE=DATE:20251205
SUMMARY:Weintour - Region Stuttgart / Göppingen / Reutlingen
END:VEVENT
BEGIN:VEVENT
UID:38666633-3137-4666-b530-393039363035
DTSTAMP:20260421T132226Z
DESCRIPTION:Wir fahren an diesem Tag nach Darmstadt / Frankfurt am Main und
  Hanau. Auf Wunsch kommen wir auch bei Ihnen vorbei. Unsere neue Weinpreis
 liste können Sie HIER downloaden. HIER geht`s zum Kontaktformular.
DTSTART;VALUE=DATE:20251206
DTEND;VALUE=DATE:20251207
SUMMARY:Weintour - Region Darmstadt / Frankfurt am Main / Hanau
END:VEVENT
BEGIN:VEVENT
UID:31376136-3564-4861-b330-316439623930
DTSTAMP:20260421T132226Z
DESCRIPTION:Wir fahren an diesem Tag nach Ulm und nach Günzburg. Auf Wunsch
  kommen wir auch bei Ihnen vorbei. Unsere neue Weinpreisliste können Sie H
 IER downloaden. HIER geht`s zum Kontaktformular.
DTSTART;VALUE=DATE:20251210
DTEND;VALUE=DATE:20251211
SUMMARY:Weintour – Region Ulm / Günzburg
END:VEVENT
BEGIN:VEVENT
UID:38306637-3830-4430-b430-366261633765
DTSTAMP:20260421T132226Z
DESCRIPTION:Wir fahren an diesem Tag nach Mittelfranken. Auf Wunsch kommen 
 wir auch bei Ihnen vorbei. Unsere neue Weinpreisliste können Sie HIER down
 loaden. HIER geht`s zum Kontaktformular.
DTSTART;VALUE=DATE:20251213
DTEND;VALUE=DATE:20251214
SUMMARY:Weintour - Region Mittelfranken
END:VEVENT
BEGIN:VEVENT
UID:36303535-3165-4365-a130-393039646639
DTSTAMP:20260421T132226Z
DESCRIPTION:Geselliges Beisammensein und den Feierabend im Hof vom Weingut 
 Breitling & Walter ausklingen lassen. Mit Glühwein und Kleinigkeiten auf d
 ie Hand aus dem Holzofen.
DTSTART:20251217T170000
DTEND:20251217T170000
SUMMARY:Feierowend im Hof - Winter Edition
END:VEVENT
END:VCALENDAR
